Workbook

Sheet Load Data
A1: Entity | B1: Month | C1: Month # | E1: 2011 | F1: 2012 | G1: 2013 | H1: 2014 | I1: 2015 | J1: 2016 | K1: 2017 | L1: 2018 | M1: 2019 | N1: 2020 | O1: 2021 | P1: 2022 | Q1: 2023 | R1: 2024 | S1: 2025 | T1: 2026
A2: ABC | B2: January | C2: 1 | D2: winter | E2: 4101 | F2: 4328 | G2: 4226 | H2: 3973 | I2: 3833 | J2: 4101 | K2: 4326 | L2: 3954 | M2: 3833 | N2: 3866 | O2: 3833 | P2: 4187 | Q2: 3973 | R2: 4326 | S2: 4162 | T2: 4235
A3: ABC | B3: February | C3: 2 | D3: winter | E3: 3649 | F3: 3997 | G3: 3799 | H3: 4637 | I3: 4182 | J3: 3649 | K3: 4317 | L3: 4206 | M3: 4498 | N3: 3680 | O3: 4182 | P3: 4323 | Q3: 4206 | R3: 3997 | S3: 4175 | T3: 4126
A4: ABC | B4: March | C4: 3 | D4: NA | E4: 3615 | F4: 3900 | G4: 3761 | H4: 3542 | I4: 3697 | J4: 3615 | K4: 3855 | L4: 3675 | M4: 4132 | N4: 3790 | O4: 3820 | P4: 3910 | Q4: 4132 | R4: 3790 | S4: 3824 | T4: 3321
A5: ABC | B5: April | C5: 4 | D5: NA | E5: 2915 | F5: 3345 | G5: 3284 | H5: 3061 | I5: 3383 | J5: 2915 | K5: 3535 | L5: 3421 | M5: 3106 | N5: 3279 | O5: 3383 | P5: 3222 | Q5: 3542 | R5: 3383 | S5: 3456 | T5: 2905
A6: ABC | B6: May | C6: 5 | D6: NA | E6: 2809 | F6: 3010 | G6: 3121 | H6: 2194 | I6: 2697 | J6: 2809 | K6: 3080 | L6: 2885 | M6: 2809 | N6: 2783 | O6: 2697 | P6: 3029 | Q6: 3121 | R6: 3010 | S6: 3952 | T6: 3456
A7: ABC | B7: June | C7: 6 | D7: summer | E7: 3138 | F7: 2722 | G7: 2878 | H7: 2677 | I7: 4036 | J7: 3138 | K7: 2679 | L7: 3161 | M7: 3138 | N7: 3225 | O7: 4036 | P7: 3478 | Q7: 3225 | R7: 4036 | S7: 4128 | T7: 7162.0956
A8: ABC | B8: July | C8: 7 | D8: summer | E8: 3163 | F8: 2820 | G8: 3147 | H8: 3123 | I8: 3470 | J8: 3163 | K8: 2795 | L8: 3407 | M8: 3163 | N8: 3286 | O8: 3470 | P8: 3819 | Q8: 2795 | R8: 3407 | S8: 3856 | T8: 4411.2989
A9: ABC | B9: August | C9: 8 | D9: summer | E9: 3266 | F9: 3204 | G9: 2973 | H9: 3288 | I9: 3729 | J9: 3266 | K9: 2917 | L9: 3423 | M9: 3624 | N9: 3179 | O9: 3729 | P9: 3597 | Q9: 3288 | R9: 3288 | S9: 3352 | T9: 612.19966
A10: ABC | B10: September | C10: 9 | D10: summer | E10: 2706 | F10: 2847 | G10: 3028 | H10: 3017 | I10: 2935 | J10: 2706 | K10: 2959 | L10: 2827 | M10: 2827 | N10: 2756 | O10: 2935 | P10: 3044 | Q10: 2959 | R10: 3017 | S10: 3467 | T10: 2156.0964
A11: ABC | B11: October | C11: 10 | D11: NA | E11: 3085 | F11: 3452 | G11: 3415 | H11: 2993 | I11: 3259 | J11: 3085 | K11: 3315 | L11: 3040 | M11: 3757 | N11: 3001 | O11: 3259 | P11: 3072 | Q11: 3072 | R11: 3259 | S11: 3300 | T11: 7855.5552
A12: ABC | B12: November | C12: 11 | D12: winter | E12: 3709 | F12: 3812 | G12: 3955 | H12: 4048 | I12: 4155 | J12: 3709 | K12: 3874 | L12: 3644 | M12: 3786 | N12: 4155 | O12: 3628 | P12: 4114 | Q12: 4155 | R12: 3644 | S12: 4227 | T12: 9003.998
A13: ABC | B13: December | C13: 12 | D13: winter | E13: 4297 | F13: 4172 | G13: 4543 | H13: 4298 | I13: 4047 | J13: 4317 | K13: 4297 | L13: 4132 | M13: 3902 | N13: 3924 | O13: 4748 | P13: 4807 | Q13: 4297 | R13: 4047 | S13: 4475 | T13: 3603.3702
A14: ABC | C14: season | D14: winter | F14: =MAX(F2:F3,E12:E13) -> 4328 | G14: =MAX(G2:G3,F12:F13) -> 4226 | H14: =MAX(H2:H3,G12:G13) -> 4637 | I14: =MAX(I2:I3,H12:H13) -> 4298 | J14: =MAX(J2:J3,I12:I13) -> 4155 | K14: =MAX(K2:K3,J12:J13) -> 4326 | L14: =MAX(L2:L3,K12:K13) -> 4297 | M14: =MAX(M2:M3,L12:L13) -> 4498 | ... T14: =MAX(T2:T3,S12:S13) -> 4475
A15: ABC | C15: season | D15: summer | E15: =MAX(E7:E10) -> 3266 | F15: =MAX(F7:F10) -> 3204 | G15: =MAX(G7:G10) -> 3147 | H15: =MAX(H7:H10) -> 3288 | I15: =MAX(I7:I10) -> 4036 | J15: =MAX(J7:J10) -> 3266 | K15: =MAX(K7:K10) -> 2959 | L15: =MAX(L7:L10) -> 3423 | ... S15: =MAX(S7:S10) -> 4128
B17: 1 | C17: 2 | D17: 3 | E17: 4 | F17: 5 | G17: 6 | H17: 7 | I17: 8 | J17: 9 | K17: 10 | L17: 11 | M17: 12 | N17: 13 | O17: 14 | P17: 15 | Q17: 16 | R17: 17 | S17: 18

Sheet Summer 27 Instructions
A1: Step # | B1: Instruction | C1: Associated Cell for Winter
A2: Step 1 | B2: Determine the monthly peak from each month in the Summer season for the last five seasons | C2: D2:H5
A3: Step 2 | B3: Calculate the maximum peak load for each of the last 5 seasons | C3: D6:H6
B4: In this example;
B5: 2021 – 4,036 MW | C5: D6
B6: 2022 – 3,819 MW | C6: E6
B7: 2023 – 3,288 MW | C7: F6
B8: 2024 – 4,036 MW | C8: G6
B9: 2025 – 4,128 MW | C9: H6
A10: Step 3 | B10: Solve for the Monthly Average of Peak Loads and find the Maximum | C10: I2:I5, J2
B11: In this example;
B12: June – 3,781 MW (Maximum) | C12: I2, J2
B13: July – 3,469 MW | C13: I3
B14: August – 3,451 MW | C14: I4
B15: September – 3,084 MW | C15: I5
A16: Step 4 | B16: Calculate the Load Forecast Ratio by dividing each of the Monthly Average Peak Loads by the Maximum Monthly Average of Peak Loads | C16: L2:L5
B17: In this example;
B18: June – 1.00 | C18: I2/J2 = L2
B19: July – 0.92 | C19: I3/J2 = L3
B20: August – 0.91 | C20: I4/J2 = L4
B21: September – 0.82 | C21: I5/J2 = L5
A22: Step 5 | B22: Find the Median of the Maximum of the Peak Loads (Step 2) and multiply the Median by the Load Forecast Ratio (Step 4) to get the Monthly P50 Peak Load Forecast -- Unadjusted | C22: M2:M5
A23: 5.1 | B23: Find the Median of the Maximum of the Peak Loads from Step 2 | C23: K2
A24: 5.2 | B24: Solve for the Monthly P50 Peak Load Forecast;
B25: June – 4,036 MW | C25: K2*L2 = M2
B26: July – 3,704 MW | C26: K3*L3 = M3
B27: August – 3,684 MW | C27: K4*L4 = M4
B28: September – 3,293 MW | C28: K5*L5 = M5
A29: Step 6 | B29: The Monthly P50 Peak Load Forecast is multiplied by 1.1%/year (2yrs) to arrive at the forecasted Monthly P50 Peak Load adjusted for load growth | C29: J2:J5
B33: Note:
B34: Defining Summer Peak Months and new P50 methodology will take effect for Summer of 2028, starting March 16, 2027 (BPM 103)

Sheet S27 Forecast
B1: Month | C1: Season | D1: 2021 | E1: 2022 | F1: 2023 | G1: 2024 | H1: 2025 | I1: Monthly Average of Peak Loads | J1: Maximum Monthly Average of Peak Loads | K1: Median of Maximum of Peak Loads | L1: Load Forecast Ratio | M1: 2027 Monthly P50 Peak Load Forecast - Unadjusted for Load Growth | N1: 2027 Monthly P50 Peak Load Forecast - Adjusted for Load Growth
B2: June | C2: Summer | D2: =HLOOKUP($D$1,'Load Data'!$E$1:$T$13,7) -> 4036 | E2: =HLOOKUP(E1,'Load Data'!$E$1:$T$13,7) -> 3478 | F2: =HLOOKUP(F1,'Load Data'!$E$1:$T$13,7) -> 3225 | G2: =HLOOKUP(G1,'Load Data'!$E$1:$T$13,7) -> 4036 | H2: =HLOOKUP(H1,'Load Data'!$E$1:$T$13,7) -> 4128 | I2: =AVERAGE(D2:H2) -> 3780.6 | J2: =MAX(I2:I5) -> 3780.6 | K2: =MEDIAN(D6:H6) -> 4036 | L2: =I2/$J$2 -> 1 | M2: =$K$2*L2 -> 4036 | N2: =M2*1.011*1.011 -> 4125.2804
B3: July | C3: Summer | D3: =HLOOKUP(D$1,'Load Data'!$E$1:$T$13,8) -> 3470 | E3: =HLOOKUP(E$1,'Load Data'!$E$1:$T$13,8) -> 3819 | F3: =HLOOKUP(F$1,'Load Data'!$E$1:$T$13,8) -> 2795 | G3: =HLOOKUP(G$1,'Load Data'!$E$1:$T$13,8) -> 3407 | H3: =HLOOKUP(H$1,'Load Data'!$E$1:$T$13,8) -> 3856 | I3: =AVERAGE(D3:H3) -> 3469.4 | L3: =I3/$J$2 -> 0.91768502 | M3: =$K$2*L3 -> 3703.7768 | N3: =M3*1.011*1.011 -> 3785.708
B4: August | C4: Summer | D4: =HLOOKUP(D$1,'Load Data'!$E$1:$T$13,9) -> 3729 | E4: =HLOOKUP(E$1,'Load Data'!$E$1:$T$13,9) -> 3597 | F4: =HLOOKUP(F$1,'Load Data'!$E$1:$T$13,9) -> 3288 | G4: =HLOOKUP(G$1,'Load Data'!$E$1:$T$13,9) -> 3288 | H4: =HLOOKUP(H$1,'Load Data'!$E$1:$T$13,9) -> 3352 | I4: =AVERAGE(D4:H4) -> 3450.8 | L4: =I4/$J$2 -> 0.91276517 | M4: =$K$2*L4 -> 3683.9202 | N4: =M4*1.011*1.011 -> 3765.4122
B5: September | C5: Summer | D5: =HLOOKUP(D$1,'Load Data'!$E$1:$T$13,10) -> 2935 | E5: =HLOOKUP(E$1,'Load Data'!$E$1:$T$13,10) -> 3044 | F5: =HLOOKUP(F$1,'Load Data'!$E$1:$T$13,10) -> 2959 | G5: =HLOOKUP(G$1,'Load Data'!$E$1:$T$13,10) -> 3017 | H5: =HLOOKUP(H$1,'Load Data'!$E$1:$T$13,10) -> 3467 | I5: =AVERAGE(D5:H5) -> 3084.4 | L5: =I5/$J$2 -> 0.81584934 | M5: =$K$2*L5 -> 3292.7679 | N5: =M5*1.011*1.011 -> 3365.6072
C6: Maximum | D6: =MAX(D2:D5) -> 4036 | E6: =MAX(E2:E5) -> 3819 | F6: =MAX(F2:F5) -> 3288 | G6: =MAX(G2:G5) -> 4036 | H6: =MAX(H2:H5) -> 4128

Sheet Winter Instructions
A1: Step # | B1: Instruction | C1: Associated Cell for Winter
A2: Step 1 | B2: Determine the monthly peak from each month in the Winter season for the last five seasons | C2: D2:H5
A3: Step 2 | B3: Calculate the maximum peak load for each of the last 5 seasons | C3: D6:H6
B4: In this example;
B5: =_xlfn.CONCAT('W27-28 Forecast'!$D$1," - ", TEXT('W27-28 Forecast'!$D$6, "#,##0")," MW") -> 2021/2022 - 4,748 MW | C5: D6
B6: =_xlfn.CONCAT('W27-28 Forecast'!$E$1," - ", TEXT('W27-28 Forecast'!$E$6, "#,##0")," MW") -> 2022/2023 - 4,807 MW | C6: E6
B7: =_xlfn.CONCAT('W27-28 Forecast'!$F$1," - ", TEXT('W27-28 Forecast'!$F$6, "#,##0")," MW") -> 2023/2024 - 4,326 MW | C7: F6
B8: =_xlfn.CONCAT('W27-28 Forecast'!$G$1," - ", TEXT('W27-28 Forecast'!$G$6, "#,##0")," MW") -> 2024/2025 - 4,175 MW | C8: G6
B9: =_xlfn.CONCAT('W27-28 Forecast'!$H$1," - ", TEXT('W27-28 Forecast'!$H$6, "#,##0")," MW") -> 2025/2026 - 4,475 MW | C9: H6
A10: Step 3 | B10: The Monthly P50 Peak Load Forecast for the Peak Months is the median of the maximum peak loads from step 2 | C10: I3:I5
B11: =_xlfn.CONCAT("In this example, the Winter Peak P50 is ",TEXT('W27-28 Forecast'!$I$3, "#,##0")," MW") -> In this example, the Winter Peak P50 is 4,475 MW | C11: I3:I5
A12: Step 4 | B12: The monthly P50 Peak Load Forecast for November is the median of the respective load values from step 1 | C12: I2
B13: =_xlfn.CONCAT("In this example, the November P50 is ",TEXT('W27-28 Forecast'!$I$2,"#,##0")," MW") -> In this example, the November P50 is 4,114 MW | C13: I2
A14: Step 5 | B14: The Monthly P50 Peak Load Forecast is multiplied by 1.1%/year (2yrs) to arrive at the forecasted Monthly P50 Peak Load adjusted for load growth | C14: J2:J5
B18: Note:
B19: Values hidden in D13:H14 of the Winter Forecast tab change seasonal years represented in graph headers: D1:H1
B20: Cell references in D2:H5 of the Winter Forecast tab will have to change to represent entirety of Load Data table

Sheet W27-28 Forecast
B1: Month | C1: Season | D1: =_xlfn.CONCAT(D13,"/",D14) -> 2021/2022 | E1: =_xlfn.CONCAT(E13,"/",E14) -> 2022/2023 | F1: =_xlfn.CONCAT(F13,"/",F14) -> 2023/2024 | G1: =_xlfn.CONCAT(G13,"/",G14) -> 2024/2025 | H1: =_xlfn.CONCAT(H13,"/",H14) -> 2025/2026 | I1: 2027/2028 Monthly P50 Peak Load Forecast - Unadjusted for Load Growth | J1: 2027/2028 Monthly P50 Peak Load Forecast - Adjusted for Load Growth
B2: November | C2: Winter | D2: =HLOOKUP(D13,'Load Data'!$B$1:$S$13,12) -> 3628 | E2: =HLOOKUP(E13,'Load Data'!$B$1:$S$13,12) -> 4114 | F2: =HLOOKUP(F13,'Load Data'!$B$1:$S$13,12) -> 4155 | G2: =HLOOKUP(G13,'Load Data'!$B$1:$S$13,12) -> 3644 | H2: =HLOOKUP(H13,'Load Data'!$B$1:$T$13,12) -> 4227 | I2: =MEDIAN(D2:H2) -> 4114 | J2: =I2*1.011*1.011 -> 4205.0058
A3: Seasonal Peak Months | B3: December | C3: Winter | D3: =HLOOKUP(D13,'Load Data'!$B$1:$S$13,13) -> 4748 | E3: =HLOOKUP(E13,'Load Data'!$B$1:$S$13,13) -> 4807 | F3: =HLOOKUP(F13,'Load Data'!$B$1:$S$13,13) -> 4297 | G3: =HLOOKUP(G13,'Load Data'!$B$1:$S$13,13) -> 4047 | H3: =HLOOKUP(H13,'Load Data'!$B$1:$T$13,13) -> 4475 | I3: =MEDIAN($D$6:$H$6) -> 4475 | J3: =I3*1.011*1.011 -> 4573.9915
B4: January | C4: Winter | D4: =HLOOKUP(D14,'Load Data'!$B$1:$S$13,2) -> 4187 | E4: =HLOOKUP(E14,'Load Data'!$B$1:$S$13,2) -> 3973 | F4: =HLOOKUP(F14,'Load Data'!$B$1:$S$13,2) -> 4326 | G4: =HLOOKUP(G14,'Load Data'!$B$1:$S$13,2) -> 4162 | H4: =HLOOKUP(H14,'Load Data'!$B$1:$T$13,2) -> 4235 | I4: =MEDIAN($D$6:$H$6) -> 4475 | J4: =I4*1.011*1.011 -> 4573.9915
B5: February | C5: Winter | D5: =HLOOKUP(D14,'Load Data'!$B$1:$S$13,3) -> 4323 | E5: =HLOOKUP(E14,'Load Data'!$B$1:$S$13,3) -> 4206 | F5: =HLOOKUP(F14,'Load Data'!$B$1:$S$13,3) -> 3997 | G5: =HLOOKUP(G14,'Load Data'!$B$1:$S$13,3) -> 4175 | H5: =HLOOKUP(H14,'Load Data'!$B$1:$T$13,3) -> 4126 | I5: =MEDIAN($D$6:$H$6) -> 4475 | J5: =I5*1.011*1.011 -> 4573.9915
C6: Maximum | D6: =MAX(D2:D5) -> 4748 | E6: =MAX(E2:E5) -> 4807 | F6: =MAX(F2:F5) -> 4326 | G6: =MAX(G2:G5) -> 4175 | H6: =MAX(H2:H5) -> 4475
C12: Winter Season
C13: Start | D13: 2021 | E13: =D14 -> 2022 | F13: =E14 -> 2023 | G13: =F14 -> 2024 | H13: =G14 -> 2025
C14: End | D14: 2022 | E14: =E13+1 -> 2023 | F14: =F13+1 -> 2024 | G14: =G13+1 -> 2025 | H14: =H13+1 -> 2026

Sheet Summer 28 Instructions
A1: Step # | B1: Instruction | C1: Associated Cell for Winter
A2: Step 1 | B2: Determine the monthly peak from each month in the Winter season for the last five seasons | C2: D2:H5
A3: Step 2 | B3: Calculate the maximum peak load for each of the last 5 seasons | C3: D6:H6
B4: In this example;
B5: =_xlfn.CONCAT('S28 Forecast'!D1," - ", TEXT('S28 Forecast'!D6, "#,##0")," MW") -> 2022 - 3,819 MW | C5: D6
B6: =_xlfn.CONCAT('S28 Forecast'!E1," - ", TEXT('S28 Forecast'!E6, "#,##0")," MW") -> 2023 - 3,288 MW | C6: E6
B7: =_xlfn.CONCAT('S28 Forecast'!F1," - ", TEXT('S28 Forecast'!F6, "#,##0")," MW") -> 2024 - 4,036 MW | C7: F6
B8: =_xlfn.CONCAT('S28 Forecast'!G1," - ", TEXT('S28 Forecast'!G6, "#,##0")," MW") -> 2025 - 4,128 MW | C8: G6
B9: =_xlfn.CONCAT('S28 Forecast'!H1," - ", TEXT('S28 Forecast'!H6, "#,##0")," MW") -> 2026 - 7,162 MW | C9: H6
A10: Step 3 | B10: The Monthly P50 Peak Load Forecast for the Peak Months is the median of the maximum peak loads from step 2 | C10: I3:I5
B11: =_xlfn.CONCAT("In this example, the Summer Peak P50 is ",TEXT('S28 Forecast'!$I$2, "#,##0"), " MW") -> In this example, the Summer Peak P50 is 4,036 MW | C11: I3:I5
A12: Step 4 | B12: The monthly P50 Peak Load Forecast for September is the median of the respective load values from step 1 | C12: I2
B13: =_xlfn.CONCAT("In this example, the September P50 is ",TEXT('S28 Forecast'!$I$5,"#,##0")," MW") -> In this example, the September P50 is 3,017 MW | C13: I2
A14: Step 5 | B14: The Monthly P50 Peak Load Forecast is multiplied by 1.1%/year (2yrs) to arrive at the forecasted Monthly P50 Peak Load adjusted for load growth | C14: J2:J5
B21: Note:
B22: Defining Summer Peak Months and new P50 methodology will take effect for Summer of 2028, starting March 16, 2027 (BPM 103)

Sheet S28 Forecast
B1: Month | C1: Season | D1: 2022 | E1: 2023 | F1: 2024 | G1: 2025 | H1: 2026 | I1: 2028 Monthly P50 Peak Load Forecast - Unadjusted for Load Growth | J1: 2028 Monthly P50 Peak Load Forecast - Adjusted for Load Growth
A2: Summer Peak Months | B2: June | C2: Summer | D2: =HLOOKUP($D$1,'Load Data'!$E$1:$T$13,7) -> 3478 | E2: =HLOOKUP(E1,'Load Data'!$E$1:$T$13,7) -> 3225 | F2: =HLOOKUP(F1,'Load Data'!$E$1:$T$13,7) -> 4036 | G2: =HLOOKUP(G1,'Load Data'!$E$1:$T$13,7) -> 4128 | H2: =HLOOKUP(H1,'Load Data'!$E$1:$T$13,7) -> 7162.0956 | I2: =MAX(MEDIAN($D$6:$H$6)) -> 4036 | J2: =I2*1.011*1.011 -> 4125.2804
B3: July | C3: Summer | D3: =HLOOKUP(D$1,'Load Data'!$E$1:$T$13,8) -> 3819 | E3: =HLOOKUP(E$1,'Load Data'!$E$1:$T$13,8) -> 2795 | F3: =HLOOKUP(F$1,'Load Data'!$E$1:$T$13,8) -> 3407 | G3: =HLOOKUP(G$1,'Load Data'!$E$1:$T$13,8) -> 3856 | H3: =HLOOKUP(H$1,'Load Data'!$E$1:$T$13,8) -> 4411.2989 | I3: =MAX(MEDIAN($D$6:$H$6)) -> 4036 | J3: =I3*1.011*1.011 -> 4125.2804
B4: August | C4: Summer | D4: =HLOOKUP(D$1,'Load Data'!$E$1:$T$13,9) -> 3597 | E4: =HLOOKUP(E$1,'Load Data'!$E$1:$T$13,9) -> 3288 | F4: =HLOOKUP(F$1,'Load Data'!$E$1:$T$13,9) -> 3288 | G4: =HLOOKUP(G$1,'Load Data'!$E$1:$T$13,9) -> 3352 | H4: =HLOOKUP(H$1,'Load Data'!$E$1:$T$13,9) -> 612.19966 | I4: =MAX(MEDIAN($D$6:$H$6)) -> 4036 | J4: =I4*1.011*1.011 -> 4125.2804
B5: September | C5: Summer | D5: =HLOOKUP(D$1,'Load Data'!$E$1:$T$13,10) -> 3044 | E5: =HLOOKUP(E$1,'Load Data'!$E$1:$T$13,10) -> 2959 | F5: =HLOOKUP(F$1,'Load Data'!$E$1:$T$13,10) -> 3017 | G5: =HLOOKUP(G$1,'Load Data'!$E$1:$T$13,10) -> 3467 | H5: =HLOOKUP(H$1,'Load Data'!$E$1:$T$13,10) -> 2156.0964 | I5: =MEDIAN(D5:H5) -> 3017 | J5: =I5*1.011*1.011 -> 3083.7391
C6: Maximum | D6: =MAX(D2:D5) -> 3819 | E6: =MAX(E2:E5) -> 3288 | F6: =MAX(F2:F5) -> 4036 | G6: =MAX(G2:G5) -> 4128 | H6: =MAX(H2:H5) -> 7162.0956
